BEGIN:VCALENDAR
VERSION:2.0
PRODID:-//ChamberMaster//Event Calendar 2.0//EN
METHOD:PUBLISH
X-PUBLISHED-TTL:P3D
REFRESH-INTERVAL:P3D
CALSCALE:GREGORIAN
BEGIN:VEVENT
DTSTART:20200308T180000Z
DTEND:20200308T230000Z
X-MICROSOFT-CDO-ALLDAYEVENT:FALSE
SUMMARY:Urban Market "Ladies Night"
DESCRIPTION:Urban Market presents "Ladies Night"!\n\n\n\nVendors\, music\, entertainment ..... and more!\n\nDetails to be updated - stay tuned!\n\n \n\n(Vendors - for more information - see Saturday's listing on March 7th)
X-ALT-DESC;FMTTYPE=text/html:<p>Urban Market presents &quot\;Ladies Night&quot\;!<br />\n<br />\nVendors\, music\, entertainment ..... and more!</p>\n\n<p>Details to be updated - stay tuned!</p>\n\n<p>&nbsp\;</p>\n\n<p>(Vendors - for more information - see Saturday&#39\;s listing on March 7th)</p>\n
LOCATION:Renton Chamber of Commerce 625 S 4th St Renton WA 98057
UID:e.16.6719
SEQUENCE:3
DTSTAMP:20260423T131230Z
URL:https://chamber.gorenton.com/events/details/urban-market-ladies-night-6719
END:VEVENT

END:VCALENDAR
