BEGIN:VCALENDAR
VERSION:2.0
PRODID:-//ChamberMaster//Event Calendar 2.0//EN
METHOD:PUBLISH
X-PUBLISHED-TTL:P3D
REFRESH-INTERVAL:P3D
CALSCALE:GREGORIAN
BEGIN:VEVENT
DTSTART:20200201T230000Z
DTEND:20200202T050000Z
X-MICROSOFT-CDO-ALLDAYEVENT:FALSE
SUMMARY:Urban Market Night Market & Burnin' Love Chili Cook Off .... "All You Need is Love"
DESCRIPTION:Do you have an award winning chili? Submit it to the challenge  .\n\nEnter the 'Burnin' Love' Chili Cook Off held during the Urban Market Pop Up Market.\n\nMarket: 3p - 9p\n\nChili Contest: 5p\n\n\n\nContact Diane for more details (425.226.4560 or Diane@GoRenton.com)\n\n\n\nEntry into the chili cook off: FREE\n\nPrizes awarded!\n\nHonorary Guest Judges: Renton Regional Fire Authority Reps*\n\n*who better to judge a 'BURNIN' love' cook off?!?\n\nPublic Vote = Popular Vote ( - this means YOU!)\n\n\n\nUrban Market presents "All You Need Is Love" Urban Night Market!\n\n\n\nVendors\, music\, drinks\, entertainment ..... and more!\n\n(Including a 'Burnin' Love' Chili Cook Off with guest judges from the Renton Regional Fire Authority - judging nearto 5p with public popular vote following!)\n\n \n\nPerfect spot to come to pick from an assortment of gifts for your Valentine....\n\nArtwork & Illustration\n\nHandcrafted Cards\n\nStone & Mineral Jewelry \n\nHandcrafted Soaps\n\nArtisan Chocolates\n\nBody Jewelry\n\nHot Sauce & Seasonings\n\nEssential Oils\n\nBonsai Plants\n\nHand-Rolled Cigars\n\nHandcrafted Jewelry with a Bohemian Vibe\n\nand more!!\n\n\n\nOne Night Only
X-ALT-DESC;FMTTYPE=text/html:<p><span style="font-family:arial\;"><span style="color: rgb(29\, 33\, 41)\; white-space: pre-wrap\;">Do you have an award winning chili? Submit it to the challenge &hellip\;.</span><br style="color: rgb(29\, 33\, 41)\; font-family: Helvetica\, Arial\, sans-serif\; font-size: 14px\; white-space: pre-wrap\;" />\n<span style="color: rgb(29\, 33\, 41)\; white-space: pre-wrap\;">Enter the<strong> &#39\;Burnin&#39\; Love&#39\; Chili Cook Off</strong> held during the Urban Market Pop Up Market.</span><br style="color: rgb(29\, 33\, 41)\; font-family: Helvetica\, Arial\, sans-serif\; font-size: 14px\; white-space: pre-wrap\;" />\n<span style="color: rgb(29\, 33\, 41)\; white-space: pre-wrap\;">Market: 3p - 9p</span><br style="color: rgb(29\, 33\, 41)\; font-family: Helvetica\, Arial\, sans-serif\; font-size: 14px\; white-space: pre-wrap\;" />\n<strong><span style="color: rgb(29\, 33\, 41)\; white-space: pre-wrap\;">Chili Contest: 5p</span></strong><br style="color: rgb(29\, 33\, 41)\; font-family: Helvetica\, Arial\, sans-serif\; font-size: 14px\; white-space: pre-wrap\;" />\n<br style="color: rgb(29\, 33\, 41)\; font-family: Helvetica\, Arial\, sans-serif\; font-size: 14px\; white-space: pre-wrap\;" />\n<span style="color: rgb(29\, 33\, 41)\; white-space: pre-wrap\;">Contact Diane for more details (425.226.4560 or Diane@GoRenton.com)</span><br style="color: rgb(29\, 33\, 41)\; font-family: Helvetica\, Arial\, sans-serif\; font-size: 14px\; white-space: pre-wrap\;" />\n<br style="color: rgb(29\, 33\, 41)\; font-family: Helvetica\, Arial\, sans-serif\; font-size: 14px\; white-space: pre-wrap\;" />\n<span style="color: rgb(29\, 33\, 41)\; white-space: pre-wrap\;">Entry into the chili cook off: FREE</span><br style="color: rgb(29\, 33\, 41)\; font-family: Helvetica\, Arial\, sans-serif\; font-size: 14px\; white-space: pre-wrap\;" />\n<span style="color: rgb(29\, 33\, 41)\; white-space: pre-wrap\;">Prizes awarded!</span><br style="color: rgb(29\, 33\, 41)\; font-family: Helvetica\, Arial\, sans-serif\; font-size: 14px\; white-space: pre-wrap\;" />\n<span style="color: rgb(29\, 33\, 41)\; white-space: pre-wrap\;">Honorary Guest Judges: Renton Regional Fire Authority Reps*</span><br style="color: rgb(29\, 33\, 41)\; font-family: Helvetica\, Arial\, sans-serif\; font-size: 14px\; white-space: pre-wrap\;" />\n<span style="color: rgb(29\, 33\, 41)\; white-space: pre-wrap\;">*who better to judge a &#39\;BURNIN&#39\; love&#39\; cook off?!?</span><br style="color: rgb(29\, 33\, 41)\; font-family: Helvetica\, Arial\, sans-serif\; font-size: 14px\; white-space: pre-wrap\;" />\n<span style="color: rgb(29\, 33\, 41)\; white-space: pre-wrap\;">Public Vote = Popular Vote (&lt\;- this means YOU!)</span><br />\n<br />\n<strong>Urban Market presents &quot\;All You Need Is Love&quot\; Urban Night Market!</strong><br />\n<br />\nVendors\, music\, drinks\, entertainment ..... and more!<br />\n(Including a &#39\;Burnin&#39\; Love&#39\; Chili Cook Off with guest judges from the Renton Regional Fire Authority - judging nearto 5p with public popular vote following!)</span></p>\n\n<p>&nbsp\;</p>\n\n<p><span style="font-family:arial\;">Perfect spot to come to pick from an assortment of gifts for your Valentine....</span></p>\n\n<p><span style="font-family:arial\;">Artwork &amp\; Illustration<br />\nHandcrafted Cards<br />\nStone &amp\; Mineral Jewelry&nbsp\;<br />\nHandcrafted Soaps<br />\nArtisan Chocolates<br />\nBody Jewelry<br />\nHot Sauce &amp\; Seasonings<br />\nEssential Oils<br />\nBonsai Plants<br />\nHand-Rolled Cigars<br />\nHandcrafted Jewelry with a Bohemian Vibe<br />\nand more!!<br />\n<br />\n<em><u><strong>One Night Only</strong></u></em></span></p>\n
LOCATION:Renton Chamber of Commerce 625 S 4th St Renton WA 98057
UID:e.16.6715
SEQUENCE:3
DTSTAMP:20260423T145538Z
URL:https://chamber.gorenton.com/events/details/urban-market-night-market-burnin-love-chili-cook-off-all-you-need-is-love-6715
END:VEVENT

END:VCALENDAR
