BEGIN:VCALENDAR
VERSION:2.0
PRODID:-//ChamberMaster//Event Calendar 2.0//EN
METHOD:PUBLISH
X-PUBLISHED-TTL:P3D
REFRESH-INTERVAL:P3D
CALSCALE:GREGORIAN
BEGIN:VEVENT
DTSTART:20200419T180000Z
DTEND:20200419T230000Z
X-MICROSOFT-CDO-ALLDAYEVENT:FALSE
SUMMARY:Urban Market Night Market "Earth Day"
DESCRIPTION:Urban Market presents "Earth Day" Market!\n\nA market event meant to draw awareness to the beauty of the Earth around us - all things natural\, celebrating nature and recognizing the gifts we are given.\n\n\n\n\n\nVendors\, music\, entertainment ..... and more!\n\nDetails to be updated - stay tuned as vendors and other downtown businesses announce their "Earth Day" specials and info!\n\n\n\n \n\nInstagram:  @urbanmarketpopup\n\n \n\nVENDORS CONFIRMED:
X-ALT-DESC;FMTTYPE=text/html:<p><span style="font-size:26px\;"><span style="font-family:comic sans ms\;"><strong>Urban Market presents &quot\;Earth Day&quot\; Market!</strong></span></span></p>\n\n<p><em><span style="font-size:18px\;"><span style="font-family:comic sans ms\;">A market event meant to draw awareness to the beauty of the Earth around us - all things natural\, celebrating nature and recognizing the gifts we are given.</span></span></em><br />\n<br />\n<br />\n<strong><span style="font-size:16px\;">Vendors\, music\, entertainment ..... and more!</span></strong></p>\n\n<p><em><span style="font-size:16px\;">Details to be updated - stay tuned as vendors and other downtown businesses announce their &quot\;Earth Day&quot\; specials and info!</span></em><br />\n<br />\n&nbsp\;</p>\n\n<p><span style="font-size:16px\;"><strong>Instagram</strong>:&nbsp\; @urbanmarketpopup</span></p>\n\n<p>&nbsp\;</p>\n\n<p><span style="font-size:24px\;"><span style="font-family:comic sans ms\;"><u><strong>VENDORS CONFIRMED:</strong></u></span></span></p>\n\n<p>&nbsp\;</p>\n
LOCATION:Renton Chamber of Commerce 625 S 4th St Renton WA 98057
UID:e.16.6740
SEQUENCE:3
DTSTAMP:20260423T114207Z
URL:https://chamber.gorenton.com/events/details/urban-market-night-market-earth-day-6740
END:VEVENT

END:VCALENDAR
