BEGIN:VCALENDAR
VERSION:2.0
PRODID:-//ChamberMaster//Event Calendar 2.0//EN
METHOD:PUBLISH
X-PUBLISHED-TTL:P3D
REFRESH-INTERVAL:P3D
CALSCALE:GREGORIAN
BEGIN:VEVENT
DTSTART:20210612T210000Z
DTEND:20210613T030000Z
X-MICROSOFT-CDO-ALLDAYEVENT:FALSE
SUMMARY:Urban Market Pop-Up @ Hyatt Regency Lake Washington
DESCRIPTION:
X-ALT-DESC;FMTTYPE=text/html:
LOCATION:Outdoors on the dock next to dock & drink located at Hyatt Regency Lake Washington
UID:e.16.8173
SEQUENCE:3
DTSTAMP:20260420T160626Z
URL:https://chamber.gorenton.com/events/details/urban-market-pop-up-hyatt-regency-lake-washington-06-12-2021-8173
END:VEVENT

END:VCALENDAR
