BEGIN:VCALENDAR
VERSION:2.0
PRODID:-//ChamberMaster//Event Calendar 2.0//EN
METHOD:PUBLISH
X-PUBLISHED-TTL:P3D
REFRESH-INTERVAL:P3D
CALSCALE:GREGORIAN
BEGIN:VEVENT
DTSTART:20210918T210000Z
DTEND:20210919T020000Z
X-MICROSOFT-CDO-ALLDAYEVENT:FALSE
SUMMARY:Urban Market Pop-Up @ Renton Pavilion & Event Center
DESCRIPTION:Urban Market Pop-Up will be located at the Renton Pavilion and Event Center (233 Burnett Ave S)\n\non Saturday\, September 18th from 2p - 7p.\n\n\n\nSupport local micro and small businesses.\n\n10 Hours of FREE PARKING in the garage next door\n\nPlenty of time to visit the market and stroll downtown to visit the shops including Urban Sprouts & Ascendance (celebrating their anniversaries) as well as visit SCOOP - the new sustainable grocery store located in River Valley Cheese.\n\n\n\nClick a business or artist below to check up on your local favorites...\n\n\n\nSEPTEMBER 18th LINEUP...\n\nBe A Light Jewelry \n\nFull Moon Rising CBD\n\nDepress Me Not Candles\n\nMisty Talkish Creative\n\nMacadons\n\nBee Yourself Hunny\n\nDaravy\n\nGod Body Soaps\n\nCrystal Bar Co.\n\nNighty Nites Co.\n\nAlpine Swimwear\n\nAltogether Lovely\n\nRenton Artist Renee Look\n\nRenton Author Vasudha Sharma\n\nArtists from Cultivate Collective
X-ALT-DESC;FMTTYPE=text/html:<p><span style="color:#800080\;">Urban Market Pop-Up will be located at the Renton Pavilion and Event Center (233 Burnett Ave S)<br />\non&nbsp\;Saturday\, September 18th from 2p - 7p.<br />\n<br />\nSupport local micro and small businesses.</span></p>\n\n<p><span style="color:#800080\;">10 Hours of <em><strong>FREE PARKING</strong></em> in the garage next door<br />\nPlenty of time to visit the market and stroll downtown to visit the shops including Urban Sprouts &amp\; Ascendance (celebrating their anniversaries) as well as visit SCOOP - the new sustainable grocery store located in River Valley Cheese.</span></p>\n\n<p><br />\n<span style="color:#800080\;"><span style="font-family:tahoma\;"><em>Click a business or artist below to check up on your local favorites...</em></span></span><br />\n<br />\n<strong><span style="color:#FF8C00\;">SEPTEMBER 18th LINEUP...</span></strong><br />\n<span style="color:#800080\;"><strong><a href="https://www.bealightjewelry.com/">Be A Light Jewelry&nbsp\;</a><br />\n<a href="https://www.fmrbodycare.com/">Full Moon Rising CBD</a><br />\n<a href="https://depressmenotcandles.com/">Depress Me Not Candles</a><br />\n<a href="https://www.instagram.com/mistytalkishcreative/?hl=en">Misty Talkish Creative</a><br />\n<a href="https://macadons.com/">Macadons</a><br />\n<a href="https://www.instagram.com/beeyourselfhunny/?hl=en">Bee Yourself Hunny</a><br />\n<a href="https://www.instagram.com/shop.daravy/?hl=en">Daravy</a><br />\n<a href="https://godbodysoaps.com/">God Body Soaps</a><br />\n<a href="https://www.instagram.com/crystalbar.co/?hl=en">Crystal Bar Co.</a><br />\n<a href="https://nighty-nites-co.myshopify.com/">Nighty Nites Co.</a><br />\n<a href="https://www.instagram.com/alpine.bikinis.beanies/?hl=en">Alpine Swimwear</a><br />\n<a href="https://www.instagram.com/altogetherlovelybotanicals/?hl=en">Altogether Lovely</a><br />\n<a href="https://www.etsy.com/shop/reneeclook">Renton Artist Renee Look</a><br />\n<a href="http://www.vasudhasharma.com/">Renton Author Vasudha Sharma</a><br />\n<a href="https://www.instagram.com/elev8prm/?hl=en">Artists from Cultivate Collective</a></strong></span><br />\n<br />\n<br />\n<br />\n&nbsp\;</p>\n
LOCATION:TEMPORARY LOCATION DUE TO WEATHER: Renton Pavilion and Event Center 233 Burnett Ave S Renton WA 98057
UID:e.16.8376
SEQUENCE:3
DTSTAMP:20260420T120431Z
URL:https://chamber.gorenton.com/events/details/urban-market-pop-up-renton-pavilion-event-center-8376
END:VEVENT

END:VCALENDAR
