BEGIN:VCALENDAR
VERSION:2.0
PRODID:-//ChamberMaster//Event Calendar 2.0//EN
METHOD:PUBLISH
X-PUBLISHED-TTL:P3D
REFRESH-INTERVAL:P3D
CALSCALE:GREGORIAN
BEGIN:VEVENT
DTSTART:20181013T230000Z
DTEND:20181014T050000Z
X-MICROSOFT-CDO-ALLDAYEVENT:FALSE
SUMMARY:Urban Night Market Run Wild in Renton
DESCRIPTION:Part of Renton's 1st Annual Run Wild in Renton ---- community festival celebrating the return of the salmon to the Cedar River. The Urban Night Market has both Renton businesses (existing and anticipated) and a multitude of artists\, entertainers and vendors never seen before in Renton including:\n\n\n\nAndy Wells (singer)\n\nOlympic Candles (candles)\n\nJohn Petersen Art New Wave (new media fusion artwork)\n\nLindbergh High School Robotics (robotics demonstrations)\n\nChristine Whitfield Art Whit An Accent (art)\n\nOvercast Goods (stained glass art)\n\nBaile Dance Studio (majorette dance studio)\n\nthe Snap Studio (photo booth)\n\nBellevue Embroidery/NV Imprints and Hazen High School 50th Anniversary Celebration Gear (promotional\, screen print and custom orders)\n\nLeon Hou (lego demonstrations and wooden puzzles)\n\nCoastal Soul (jewelry)\n\nJust Be (women's clothing)\n\nCold Mountain Crochet (crocheted hats\, gloves\, goods)\n\nJulia Roe (stones/jewelry/handcrafted bags)\n\nWest Coast Visuals (photography)\n\nCrafty Sisters (hand crafted cards & jewerly)\n\nUrban Sprouts (indoor houseplants & other gifts)\n\nCrocheted Creatrix (festival wear)\n\nTrevani Truffles (hand crafter chocolates and truffles)\n\nd+k Renewal (vintage furniture and houseware)\n\nJKBMade for Me (hand crafted gifts and crochet)\n\nDolcetta (chocolatier)\n\nThe Brick King (legos and toys)\n\nDubtown Brewing Company Taproom (new taproom coming to Renton)\n\nElise Frost (photography)\n\nSparkle Gifts & Whatnots (gift shop - Renton store popup)\n\nEyes on the Landing (eyeglasses & sunglasses - Landing store popup)\n\nImmortal Perfumes (perfumes & scents)\n\nFade into the Abstract (jewelry)\n\nSmall Tasty Cakes (creamery & baker - new Landing business popup)\n\nFreedom Snacks (gourmet popcorn)\n\nHappyn Stance (jewelry)\n\nFull Moon Rising (hemp oils & lotions)\n\nZKRY (entertainer)\n\nShipwreck Apiaries (honey & beeswax)\n\nPaintbrush Jewel (custom furniture and jewelry)\n\nGrimm Brothers (hot sauces)\n\nAmber Leaders (cards and prints)\n\nQuirky Bear Designs (jewelry)\n\nChe Sehyun (entertainer)\n\nRemington Bonsai Company (bonsai trees and plants)\n\nWolff Deluxx (entertainer)\n\nGlassybaby (votices for charity)\n\nRichard Jahn (artist)\n\nMC Rhetorik (entertainer)\n\nSam Whitney (artist)\n\nrue Sante (self care body products)\n\nJustin Tamminga (entertainer)\n\nLindbergh High School Booster (LHS spirit wear and products)\n\nPrint Ritual (Renton branded clothes\, stickers and prints)\n\nRoot Wares (screen print and custom giftware)\n\nRenton High School Booster (RHS spirit wear and products)\n\nMandee Rae (photography)\n\nL of Hyrule (entertainer)\n\nIntertwined by Bella (jewelry)\n\nEthos (entertainer)\n\nRandi's LulaRoe (women's clothing)\n\nSnap Studio (photo booth)\n\nDark Pretty (hats and jewelry)\n\nAlicia's Wonderland (face painting and balloon artist)\n\nBoon Boone (ethiopian coffee brewing)\n\nYummy Yummy in Seattle (gluton free\, sugar free\, dairy free\, egg free + other diet-specialty baked goods)\n\n..... and more\, yet to be announced!!
X-ALT-DESC;FMTTYPE=text/html:<p>Part of Renton&#39\;s 1st Annual Run Wild in Renton ---- community festival celebrating the return of the salmon to the Cedar River. The Urban Night Market has both Renton businesses (existing and anticipated) and a multitude of artists\, entertainers and vendors never seen before in Renton including:<br />\n<br />\nAndy Wells (singer)<br />\nOlympic Candles (candles)<br />\nJohn Petersen Art New Wave (new media fusion artwork)<br />\nLindbergh High School Robotics (robotics demonstrations)<br />\nChristine Whitfield Art Whit An Accent (art)<br />\nOvercast Goods (stained glass art)<br />\nBaile Dance Studio (majorette dance studio)<br />\nthe Snap Studio (photo booth)<br />\nBellevue Embroidery/NV Imprints and Hazen High School 50th Anniversary Celebration Gear (promotional\, screen print and custom orders)<br />\nLeon Hou (lego demonstrations and wooden puzzles)<br />\nCoastal Soul (jewelry)<br />\nJust Be (women&#39\;s clothing)<br />\nCold Mountain Crochet (crocheted hats\, gloves\, goods)<br />\nJulia Roe (stones/jewelry/handcrafted bags)<br />\nWest Coast Visuals (photography)<br />\nCrafty Sisters (hand crafted cards &amp\; jewerly)<br />\nUrban Sprouts (indoor houseplants &amp\; other gifts)<br />\nCrocheted Creatrix (festival wear)<br />\nTrevani Truffles (hand crafter chocolates and truffles)<br />\nd+k Renewal (vintage furniture and houseware)<br />\nJKBMade for Me (hand crafted gifts and crochet)<br />\nDolcetta (chocolatier)<br />\nThe Brick King (legos and toys)<br />\nDubtown Brewing Company Taproom (new taproom coming to Renton)<br />\nElise Frost (photography)<br />\nSparkle Gifts &amp\; Whatnots (gift shop - Renton store popup)<br />\nEyes on the Landing (eyeglasses &amp\; sunglasses - Landing store popup)<br />\nImmortal Perfumes (perfumes &amp\; scents)<br />\nFade into the Abstract (jewelry)<br />\nSmall Tasty Cakes (creamery &amp\; baker - new Landing business popup)<br />\nFreedom Snacks (gourmet popcorn)<br />\nHappyn Stance (jewelry)<br />\nFull Moon Rising (hemp oils &amp\; lotions)<br />\nZKRY (entertainer)<br />\nShipwreck Apiaries (honey &amp\; beeswax)<br />\nPaintbrush Jewel (custom furniture and jewelry)<br />\nGrimm Brothers (hot sauces)<br />\nAmber Leaders (cards and prints)<br />\nQuirky Bear Designs (jewelry)<br />\n<span>Che Sehyun (entertainer)</span><br />\nRemington Bonsai Company (bonsai trees and plants)<br />\nWolff Deluxx (entertainer)<br />\nGlassybaby (votices for charity)<br />\nRichard Jahn (artist)<br />\nMC Rhetorik (entertainer)<br />\nSam Whitney (artist)<br />\nrue Sante (self care body products)<br />\nJustin Tamminga (entertainer)<br />\nLindbergh High School Booster (LHS spirit wear and products)<br />\nPrint Ritual (Renton branded clothes\, stickers and prints)<br />\nRoot Wares (screen print and custom giftware)<br />\nRenton High School Booster (RHS spirit wear and products)<br />\nMandee Rae (photography)<br />\nL of Hyrule (entertainer)<br />\nIntertwined by Bella (jewelry)<br />\nEthos (entertainer)<br />\nRandi&#39\;s LulaRoe (women&#39\;s clothing)<br />\nSnap Studio (photo booth)<br />\nDark Pretty (hats and jewelry)<br />\nAlicia&#39\;s Wonderland (face painting and balloon artist)<br />\nBoon Boone (ethiopian coffee brewing)<br />\nYummy Yummy in Seattle (gluton free\, sugar free\, dairy free\, egg free + other diet-specialty baked goods)</p>\n\n<p>..... and more\, yet to be announced!!</p>\n
LOCATION:700 + 911 + 913 + 917 + 921 S 3rd Street
UID:e.16.5919
SEQUENCE:3
DTSTAMP:20260424T134640Z
URL:https://chamber.gorenton.com/events/details/urban-night-market-run-wild-in-renton-5919
END:VEVENT

END:VCALENDAR
