BEGIN:VCALENDAR
VERSION:2.0
PRODID:-//ChamberMaster//Event Calendar 2.0//EN
METHOD:PUBLISH
X-PUBLISHED-TTL:P3D
REFRESH-INTERVAL:P3D
CALSCALE:GREGORIAN
BEGIN:VEVENT
DTSTART:20180209T020000Z
DTEND:20180209T043000Z
X-MICROSOFT-CDO-ALLDAYEVENT:FALSE
SUMMARY:Urban Ranger Mobile Cinema
DESCRIPTION:This month\, Urban Ranger Mobile Cinema is proud to present a Takashi Miike film\, "Blade of the Immortal" (Mugen no Junin) from Japan. Running Time: 141 minutes MPAA Rating: R for graphic sword violence
X-ALT-DESC;FMTTYPE=text/html:This month\, Urban Ranger Mobile Cinema is proud to present a Takashi Miike film\, &quot\;Blade of the Immortal&quot\; (Mugen no Junin) from Japan. Running Time: 141 minutes MPAA Rating: R for graphic sword violence
LOCATION:Renton Public Library KCLS Main Branch King Parker Meeting Room 100 Mills Avenue South Renton\, WA 98057
UID:e.16.5735
SEQUENCE:3
DTSTAMP:20260425T040531Z
URL:https://chamber.gorenton.com/events/details/urban-ranger-mobile-cinema-5735
END:VEVENT

END:VCALENDAR
