BEGIN:VCALENDAR
VERSION:2.0
PRODID:-//ChamberMaster//Event Calendar 2.0//EN
METHOD:PUBLISH
X-PUBLISHED-TTL:P3D
REFRESH-INTERVAL:P3D
CALSCALE:GREGORIAN
BEGIN:VEVENT
DTSTART:20180330T000000Z
DTEND:20180330T033000Z
X-MICROSOFT-CDO-ALLDAYEVENT:FALSE
SUMMARY:Urban Ranger Mobile Cinema presents: Ma$ter
DESCRIPTION:This month\, URMC will be showing the Korean film "Master" by director Ui-seok Jo on Thursday\, March 29th\, 6:00 pm -8:30 pm at the Renton Public KCLS Main library in the King Parker meeting room. The event is free and is open the public at large. Seating is limited and will starts from 5:00 pm-6:00 pm. It will be on a first come first served basis.
X-ALT-DESC;FMTTYPE=text/html:This month\, URMC will be showing the Korean film &quot\;Master&quot\; by director Ui-seok Jo on Thursday\, March 29th\, 6:00 pm -8:30 pm at the Renton Public KCLS Main library in the King Parker meeting room. The event is free and is open the public at large. Seating is limited and will starts from 5:00 pm-6:00 pm. It will be on a first come first served basis.
LOCATION:Renton Public KCLS Main library in the King Parker meeting room. 100 Mill Ave S\, Renton\, WA 98057\; 425-226-6043.
UID:e.16.5742
SEQUENCE:3
DTSTAMP:20260425T005545Z
URL:https://chamber.gorenton.com/events/details/urban-ranger-mobile-cinema-presents-ma-ter-5742
END:VEVENT

END:VCALENDAR
