BEGIN:VCALENDAR
VERSION:2.0
PRODID:-//ChamberMaster//Event Calendar 2.0//EN
METHOD:PUBLISH
X-PUBLISHED-TTL:P3D
REFRESH-INTERVAL:P3D
CALSCALE:GREGORIAN
BEGIN:VEVENT
DTSTART:20180512T210000Z
DTEND:20180512T233000Z
X-MICROSOFT-CDO-ALLDAYEVENT:FALSE
SUMMARY:Urban Ranger Mobile Cinema's A Taxi Driver 2017 Film Showing 05-12-18
DESCRIPTION:Urban Ranger Mobile Cinema will be showing the Korean film "A Taxi Driver" in 2017 by director Jang Hoon on Saturday\, May 12th\, 2:00pm-4:30pm at the Renton Public Library KCLS Main Branch in the King Parker meeting room. The event is free and is open the public at large. Seating is limited and will starts from 1:00pm-2:00pm. It will be on a first come first served basis. Official Trailer: https://m.youtube.com/watch?v=ZbUwOP9HZQk
X-ALT-DESC;FMTTYPE=text/html:Urban Ranger Mobile Cinema will be showing the Korean film &quot\;A Taxi Driver&quot\; in 2017 by director Jang Hoon on Saturday\, May 12th\, 2:00pm-4:30pm at the Renton Public Library KCLS Main Branch in the King Parker meeting room. The event is free and is open the public at large. Seating is limited and will starts from 1:00pm-2:00pm. It will be on a first come first served basis. Official Trailer: https://m.youtube.com/watch?v=ZbUwOP9HZQk
LOCATION:Renton Public Library KCLS Main Branch 100 Mill Ave South Renton\, WA 98057
UID:e.16.5849
SEQUENCE:3
DTSTAMP:20260424T215206Z
URL:https://chamber.gorenton.com/events/details/urban-ranger-mobile-cinema-s-a-taxi-driver-2017-film-showing-05-12-18-5849
END:VEVENT

END:VCALENDAR
