BEGIN:VCALENDAR
VERSION:2.0
PRODID:-//ChamberMaster//Event Calendar 2.0//EN
METHOD:PUBLISH
X-PUBLISHED-TTL:P3D
REFRESH-INTERVAL:P3D
CALSCALE:GREGORIAN
BEGIN:VEVENT
DTSTART:20180428T201500Z
DTEND:20180428T233000Z
X-MICROSOFT-CDO-ALLDAYEVENT:FALSE
SUMMARY:Urban Ranger Mobile Cinema's "Padmaavat" Film Showing 04-28-2018
DESCRIPTION:This month\, Urban Ranger Mobile Cinema will be showing the Hindi film "Padmaavat" by director Sanjey Leela Bhansali on Saturday\, April 28th\, 1:15pm-4:30pm at the Renton Public KCLS Main library in the King Parker meeting room. The event is free and is open the public at large. Seating is limited and will starts from 1:00pm-1:15pm. It will be on a first come first served basis.
X-ALT-DESC;FMTTYPE=text/html:This month\, Urban Ranger Mobile Cinema will be showing the Hindi film &quot\;Padmaavat&quot\; by director Sanjey Leela Bhansali on Saturday\, April 28th\, 1:15pm-4:30pm at the Renton Public KCLS Main library in the King Parker meeting room. The event is free and is open the public at large. Seating is limited and will starts from 1:00pm-1:15pm. It will be on a first come first served basis.
LOCATION:Renton Public KCLS Main Library King Parker Meeting Room 100 Avenue South Renton\, WA 98057 425-226-6043
UID:e.16.5842
SEQUENCE:3
DTSTAMP:20260425T005322Z
URL:https://chamber.gorenton.com/events/details/urban-ranger-mobile-cinema-s-padmaavat-film-showing-04-28-2018-5842
END:VEVENT

END:VCALENDAR
