BEGIN:VCALENDAR
VERSION:2.0
PRODID:-//ChamberMaster//Event Calendar 2.0//EN
METHOD:PUBLISH
X-PUBLISHED-TTL:P3D
REFRESH-INTERVAL:P3D
CALSCALE:GREGORIAN
BEGIN:VEVENT
DTSTART:20190307T220000Z
DTEND:20190307T230000Z
X-MICROSOFT-CDO-ALLDAYEVENT:FALSE
SUMMARY:UW Medicine Sleep & Brain Health Seminar
DESCRIPTION:Dr. Persenaire\, Neurologist\, of the UW Memory and Brain Wellness Center at The Lakeshore for his presentation on sleep and how it affects the way our brain works. One of the many topics he will explore includes\, What is the relationship between sleep and Alzheimer's Disease? RSVP today!
X-ALT-DESC;FMTTYPE=text/html:Dr. Persenaire\, Neurologist\, of the UW Memory and Brain Wellness Center at The Lakeshore for his presentation on sleep and how it affects the way our brain works. One of the many topics he will explore includes\, What is the relationship between sleep and Alzheimer&#39\;s Disease? RSVP today!
LOCATION:The Lakeshore 11448 Rainier Ave S Seattle\, WA 98178
UID:e.16.6242
SEQUENCE:3
DTSTAMP:20260424T065231Z
URL:https://chamber.gorenton.com/events/details/uw-medicine-sleep-brain-health-seminar-6242
END:VEVENT

END:VCALENDAR
