BEGIN:VCALENDAR
VERSION:2.0
PRODID:-//ChamberMaster//Event Calendar 2.0//EN
METHOD:PUBLISH
X-PUBLISHED-TTL:P3D
REFRESH-INTERVAL:P3D
CALSCALE:GREGORIAN
BEGIN:VEVENT
DTSTART:20190628T210000Z
DTEND:20190628T220000Z
X-MICROSOFT-CDO-ALLDAYEVENT:FALSE
SUMMARY:UW OSHER : The Tanabata Festival & Japanese Waka Poetry
DESCRIPTION:Tanabata is one of the festivals of the traditional Japanese calendar celebrated in Japan every year on July 7th. Originally based on a Chinese legend\, Tanabata commemorates two lovers\, the Weaver Girl and the Herder Boy\, who were turned into stars (Altair and Vega) that meet in the heavens only once a year. Today in Japan\, Tanabata is an occasion for making wishes\, but for centuries it has been an important topic in Japanese Waka Poetry.
X-ALT-DESC;FMTTYPE=text/html:Tanabata is one of the festivals of the traditional Japanese calendar celebrated in Japan every year on July 7th. Originally based on a Chinese legend\, Tanabata commemorates two lovers\, the Weaver Girl and the Herder Boy\, who were turned into stars (Altair and Vega) that meet in the heavens only once a year. Today in Japan\, Tanabata is an occasion for making wishes\, but for centuries it has been an important topic in Japanese Waka Poetry.
LOCATION:The Lakeshore 11448 Rainier Ave S Seattle\, WA 98178
UID:e.16.6533
SEQUENCE:3
DTSTAMP:20260424T022205Z
URL:https://chamber.gorenton.com/events/details/uw-osher-the-tanabata-festival-japanese-waka-poetry-6533
END:VEVENT

END:VCALENDAR
