BEGIN:VCALENDAR
VERSION:2.0
PRODID:-//ChamberMaster//Event Calendar 2.0//EN
METHOD:PUBLISH
X-PUBLISHED-TTL:P3D
REFRESH-INTERVAL:P3D
CALSCALE:GREGORIAN
BEGIN:VEVENT
DTSTART:20210505T210000Z
DTEND:20210506T220000Z
X-MICROSOFT-CDO-ALLDAYEVENT:FALSE
SUMMARY:UW School of Nursing - Sleep and Aging Informative Presentation
DESCRIPTION:In this online webinar\, learn how aging affects our sleep and why sleep is important for our overall health. In this presentation\, Dr. Tang will discuss how sleep works\, tips for good sleep habits\, and how to self-assess quality of sleep.
X-ALT-DESC;FMTTYPE=text/html:In this online webinar\, learn how aging affects our sleep and why sleep is important for our overall health. In this presentation\, Dr. Tang will discuss how sleep works\, tips for good sleep habits\, and how to self-assess quality of sleep.&nbsp\;
LOCATION:Online webinar via Zoom
UID:e.16.8193
SEQUENCE:3
DTSTAMP:20260420T212607Z
URL:https://chamber.gorenton.com/events/details/uw-school-of-nursing-sleep-and-aging-informative-presentation-8193
END:VEVENT

END:VCALENDAR
