BEGIN:VCALENDAR
VERSION:2.0
PRODID:-//ChamberMaster//Event Calendar 2.0//EN
METHOD:PUBLISH
X-PUBLISHED-TTL:P3D
REFRESH-INTERVAL:P3D
CALSCALE:GREGORIAN
BEGIN:VEVENT
DTSTART:20190806T004500Z
DTEND:20190810T033000Z
X-MICROSOFT-CDO-ALLDAYEVENT:FALSE
SUMMARY:Vacation Bible School- Celebration Foursquare Church
DESCRIPTION:Register for Vacation Bible School at Celebration Foursquare Church.\n\nFree for kids ages 5 - 5th Grade ( must be potty trained )\n\nPre-Register @ www.cfcrenton.com\n\n425 226-2381
X-ALT-DESC;FMTTYPE=text/html:Register for Vacation Bible School at Celebration Foursquare Church.<br />\nFree for kids ages 5 - 5th Grade ( must be potty trained )<br />\nPre-Register @ www.cfcrenton.com<br />\n425 226-2381
LOCATION:Celebration Foursquare Church 11840 148th Ave. SE\, Renton\, WA 98059
UID:e.16.6612
SEQUENCE:3
DTSTAMP:20260423T233002Z
URL:https://chamber.gorenton.com/events/details/vacation-bible-school-celebration-foursquare-church-6612
END:VEVENT

END:VCALENDAR
