BEGIN:VCALENDAR
VERSION:2.0
PRODID:-//ChamberMaster//Event Calendar 2.0//EN
METHOD:PUBLISH
X-PUBLISHED-TTL:P3D
REFRESH-INTERVAL:P3D
CALSCALE:GREGORIAN
BEGIN:VEVENT
DTSTART:20230113T160000Z
DTEND:20230114T020000Z
X-MICROSOFT-CDO-ALLDAYEVENT:FALSE
SUMMARY:Valvoline Instant Oil Change – Renton\, Washington Grand Opening Celebration
DESCRIPTION:Valvoline Instant Oil Change SM (VIOC) is excited to announce the opening of the newest Company-owned service center in Washington! The new location is in Renton at 100 Rainier Ave. S. Hours are Monday-Saturday 8am   6pm\, and Sunday 9am   5pm. To celebrate the store opening\, VIOC invites the community to come out and join us for a grand opening event on Friday\, January 13 from 8am   6pm. Store visitors will enjoy giveaways and special promotions*\, including:   The first 100 visitors in-store will receive an exclusive Grand Opening VIP Member card\, which includes $40 worth of VIOC gift cards   for you or a friend   to use on a future visit plus a 20% discount for an entire year at the 100 Rainier Ave. S. location.   The first 10 visitors to purchase a synthetic blend or full-synthetic oil change will receive a $25 gas gift card.   All visitors will enjoy a one-day only special $20 savings off their total purchase. No coupon needed.   Plus\, guests will enjoy special treats and Valvoline giveaways. At 11am on Friday\, the community is invited to the official ribbon cutting. During this ceremony\, the service center team will present a $500 check to the Cystic Fibrosis Foundation to help support their mission to cure Cystic Fibrosis. To learn more about Valvoline Instant Oil Change\, visit vioc.com. *Giveaways are on a first-come\, first-served basis while supplies last. No appointments are necessary. One-day-only offer excludes batteries. About Valvoline Inc.TM The Quick\, Easy\, Trusted name in preventive vehicle maintenance\, Valvoline Inc. (NYSE: VVV) leads the industry with automotive service innovations that simplify consumer's lives and take the worry out of vehicle care. With an average consumer rating of 4.6 out of 5 stars*\, Valvoline has built a model for transparency and convenience in automotive maintenance. From its 15-minute\, stay-in-your-car oil change to cabin air filters to battery replacements to tire rotations\, the Company's model offers maintenance solutions for all types of vehicles. The Company operates and franchises over 1\,700 service center locations through its Valvoline Instant Oil Change SM and Great Canadian Oil Change retail locations. To learn more\, or to find a Valvoline service center near you\, visit valvoline.com. TM SM service mark\, Valvoline or its subsidiaries\, registered in various countries * Based on a survey of over 250\,000 Valvoline Instant Oil Change customers annually
X-ALT-DESC;FMTTYPE=text/html:Valvoline Instant Oil Change SM (VIOC) is excited to announce the opening of the newest Company-owned service center in Washington! The new location is in Renton at 100 Rainier Ave. S. Hours are Monday-Saturday 8am &ndash\; 6pm\, and Sunday 9am &ndash\; 5pm. To celebrate the store opening\, VIOC invites the community to come out and join us for a grand opening event on Friday\, January 13 from 8am &ndash\; 6pm. Store visitors will enjoy giveaways and special promotions*\, including: &bull\; The first 100 visitors in-store will receive an exclusive Grand Opening VIP Member card\, which includes $40 worth of VIOC gift cards &ndash\; for you or a friend &ndash\; to use on a future visit plus a 20% discount for an entire year at the 100 Rainier Ave. S. location. &bull\; The first 10 visitors to purchase a synthetic blend or full-synthetic oil change will receive a $25 gas gift card. &bull\; All visitors will enjoy a one-day only special $20 savings off their total purchase. No coupon needed. &bull\; Plus\, guests will enjoy special treats and Valvoline giveaways. At 11am on Friday\, the community is invited to the official ribbon cutting. During this ceremony\, the service center team will present a $500 check to the Cystic Fibrosis Foundation to help support their mission to cure Cystic Fibrosis. To learn more about Valvoline Instant Oil Change\, visit vioc.com. *Giveaways are on a first-come\, first-served basis while supplies last. No appointments are necessary. One-day-only offer excludes batteries. About Valvoline Inc.TM The Quick\, Easy\, Trusted name in preventive vehicle maintenance\, Valvoline Inc. (NYSE: VVV) leads the industry with automotive service innovations that simplify consumer&rsquo\;s lives and take the worry out of vehicle care. With an average consumer rating of 4.6 out of 5 stars*\, Valvoline has built a model for transparency and convenience in automotive maintenance. From its 15-minute\, stay-in-your-car oil change to cabin air filters to battery replacements to tire rotations\, the Company&rsquo\;s model offers maintenance solutions for all types of vehicles. The Company operates and franchises over 1\,700 service center locations through its Valvoline Instant Oil Change SM and Great Canadian Oil Change retail locations. To learn more\, or to find a Valvoline service center near you\, visit valvoline.com. TM SM service mark\, Valvoline or its subsidiaries\, registered in various countries * Based on a survey of over 250\,000 Valvoline Instant Oil Change customers annually
LOCATION:Valvoline Instant Oil Change 100 Rainier Ave. S. Renton\, WA 98057
UID:e.16.13971
SEQUENCE:3
DTSTAMP:20260419T140931Z
URL:https://chamber.gorenton.com/events/details/valvoline-instant-oil-change-renton-washington-grand-opening-celebration-01-13-2023-13971
END:VEVENT

END:VCALENDAR
