BEGIN:VCALENDAR
VERSION:2.0
PRODID:-//ChamberMaster//Event Calendar 2.0//EN
METHOD:PUBLISH
X-PUBLISHED-TTL:P3D
REFRESH-INTERVAL:P3D
CALSCALE:GREGORIAN
BEGIN:VEVENT
DTSTART:20220414T170000Z
DTEND:20220414T210000Z
X-MICROSOFT-CDO-ALLDAYEVENT:FALSE
SUMMARY:Virtual Renton Drop In Coaching Chamber of Commerce
DESCRIPTION:Are you thinking of starting a business?\n\nDo you already have a business but want it to grow?\n\nAre you facing a business puzzle that you'd like help with?\n\nJoin us for free drop-in Business Coaching on the second Thursday of every month from 10am-2pm.\n\n \n\nNOTICE: In an effort to follow the state guidelines regarding the Coronavirus\, Drop In Business Coaching sessions will be held via phone call\, not in-person. \n\nNote: Please limit reservations to one session.
X-ALT-DESC;FMTTYPE=text/html:<p>Are you thinking of starting a business?</p>\n\n<p>Do you already have a business but want it to grow?</p>\n\n<p>Are you facing a business puzzle that you&rsquo\;d like help with?</p>\n\n<p>Join us for free drop-in Business Coaching on&nbsp\;<strong>the second Thursday of every month from 10am-2pm.</strong></p>\n\n<p>&nbsp\;</p>\n\n<p><strong>NOTICE: In an effort to follow the state guidelines regarding the Coronavirus\, Drop In Business Coaching sessions will be held via phone call\, not in-person.&nbsp\;</strong></p>\n\n<p><strong>Note: Please limit reservations to one session.&nbsp\;</strong></p>\n
LOCATION:Via Phone Call
UID:e.16.10590
SEQUENCE:3
DTSTAMP:20260420T014508Z
URL:https://chamber.gorenton.com/events/details/virtual-renton-drop-in-coaching-chamber-of-commerce-04-14-2022-10590
END:VEVENT

END:VCALENDAR
