BEGIN:VCALENDAR
VERSION:2.0
PRODID:-//ChamberMaster//Event Calendar 2.0//EN
METHOD:PUBLISH
X-PUBLISHED-TTL:P3D
REFRESH-INTERVAL:P3D
CALSCALE:GREGORIAN
BEGIN:VEVENT
DTSTART:20200207T020000Z
DTEND:20200207T030000Z
X-MICROSOFT-CDO-ALLDAYEVENT:FALSE
SUMMARY:Virtual Tour of Renton's African American Historical Sites
DESCRIPTION:Join us at the Renton History Museum for a Virtual Tour of African American Historical Sites in Renton\, led by lifelong Renton resident and business consultant John Houston and Benita R. Horn\, Principal\, Benita R. Horn & Associates. This interactive dialogue and journey will explore the remarkable history of Renton's African American residents and their contributions to Renton. Discover how the center of their community came to be located\, the effects of development\, local luminaries\, and more!
X-ALT-DESC;FMTTYPE=text/html:Join us at the Renton History Museum for a Virtual Tour of African American Historical Sites in Renton\, led by lifelong Renton resident and business consultant John Houston and Benita R. Horn\, Principal\, Benita R. Horn &amp\; Associates. This interactive dialogue and journey will explore the remarkable history of Renton&rsquo\;s African American residents and their contributions to Renton. Discover how the center of their community came to be located\, the effects of development\, local luminaries\, and more!
LOCATION:Renton History Museum 235 Mill Ave S Renton WA 98057
UID:e.16.6723
SEQUENCE:3
DTSTAMP:20260423T143944Z
URL:https://chamber.gorenton.com/events/details/virtual-tour-of-renton-s-african-american-historical-sites-6723
END:VEVENT

END:VCALENDAR
