BEGIN:VCALENDAR
VERSION:2.0
PRODID:-//ChamberMaster//Event Calendar 2.0//EN
METHOD:PUBLISH
X-PUBLISHED-TTL:P3D
REFRESH-INTERVAL:P3D
CALSCALE:GREGORIAN
BEGIN:VEVENT
DTSTART:20220507T180000Z
DTEND:20220507T220000Z
X-MICROSOFT-CDO-ALLDAYEVENT:FALSE
SUMMARY:Voice of Planet - Multi-Cultural Art Exhibition
DESCRIPTION:The First Multi-Cultural Art Exhibition is here on May 7th\, 2022 @ the Renton Pavilion Event Center. \n\nSo come and join us to celebrate local artists representing arts from different cultures. You will get an opportunity to interact and vote for your favorite artist as we are giving away People's Choice Award.\n\n\n\nThank you for your interest!
X-ALT-DESC;FMTTYPE=text/html:The <strong>First Multi-Cultural Art Exhibition</strong> is here on May 7th\, 2022 @ the Renton Pavilion Event Center.&nbsp\;<br />\nSo come and join us to celebrate local artists representing arts from different cultures. You will get an opportunity to interact and vote for your favorite artist as we are giving away People&#39\;s Choice Award.<br />\n<br />\nThank you for your interest!&nbsp\;<br />\n&nbsp\;
LOCATION:233 Burnett Ave S Renton\, WA 98057
UID:e.16.11521
SEQUENCE:3
DTSTAMP:20260420T003303Z
URL:https://chamber.gorenton.com/events/details/voice-of-planet-multi-cultural-art-exhibition-11521
END:VEVENT

END:VCALENDAR
