BEGIN:VCALENDAR
VERSION:2.0
PRODID:-//ChamberMaster//Event Calendar 2.0//EN
METHOD:PUBLISH
X-PUBLISHED-TTL:P3D
REFRESH-INTERVAL:P3D
CALSCALE:GREGORIAN
BEGIN:VEVENT
DTSTART;VALUE=DATE:20211104
DTEND;VALUE=DATE:20211120
TRANSP:TRANSPARENT
X-MICROSOFT-CDO-ALLDAYEVENT:TRUE
SUMMARY:Vote for Best of Renton 2022!
DESCRIPTION:Visit vote.rentonreporter.com and nominate your favorite business in several categories. We will tally the votes after November 19th and the top 3 per category will move on to the Winners round where you will vote amongst the finalist to determine the winners!
X-ALT-DESC;FMTTYPE=text/html:Visit vote.rentonreporter.com and nominate your favorite business in several categories. We will tally the votes after November 19th and the top 3 per category will move on to the Winners round where you will vote amongst the finalist to determine the winners!
LOCATION:vote.rentonreporter.com
UID:e.16.10581
SEQUENCE:3
DTSTAMP:20260420T090652Z
URL:https://chamber.gorenton.com/events/details/vote-for-best-of-renton-2022-10581
END:VEVENT

END:VCALENDAR
