BEGIN:VCALENDAR
VERSION:2.0
PRODID:-//ChamberMaster//Event Calendar 2.0//EN
METHOD:PUBLISH
X-PUBLISHED-TTL:P3D
REFRESH-INTERVAL:P3D
CALSCALE:GREGORIAN
BEGIN:VEVENT
DTSTART:20211218T180000Z
DTEND:20211218T190000Z
X-MICROSOFT-CDO-ALLDAYEVENT:FALSE
SUMMARY:'Walk with the Docs'
DESCRIPTION:Join Dr. Bita Shakib & Dr. Ashley Gundermann for a 60 min walk along the Cedar River.* \n\nMeet at Jones Park (a 2 min walk from New Wave Medicine). \n\nRegister for this free weekly event at https://www.newwavewa.com/class-schedule. \n\n\n\n*Weather permitting - NWM will send a notification if the walk is canceled.
X-ALT-DESC;FMTTYPE=text/html:<span style="font-size:12px"><span style="font-family:arial\,helvetica\,sans-serif">Join Dr. Bita Shakib &amp\; Dr. Ashley Gundermann for a 60 min walk along the Cedar River.*&nbsp\;<br />\nMeet at Jones Park (a 2 min walk from New Wave Medicine).&nbsp\;<br />\n<span style="color:rgb(33\, 33\, 33)">Register for this free weekly event at https://www.newwavewa.com/class-schedule.&nbsp\;</span><br />\n<br />\n*Weather permitting - NWM will send a notification if the walk is canceled.&nbsp\;</span></span>
LOCATION:Jones Park\, Renton\, WA
UID:e.16.9770
SEQUENCE:3
DTSTAMP:20260420T073818Z
URL:https://chamber.gorenton.com/events/details/walk-with-the-docs-12-18-2021-9770
END:VEVENT

END:VCALENDAR
