BEGIN:VCALENDAR
VERSION:2.0
PRODID:-//ChamberMaster//Event Calendar 2.0//EN
METHOD:PUBLISH
X-PUBLISHED-TTL:P3D
REFRESH-INTERVAL:P3D
CALSCALE:GREGORIAN
BEGIN:VEVENT
DTSTART:20181012T010000Z
DTEND:20181012T020000Z
X-MICROSOFT-CDO-ALLDAYEVENT:FALSE
SUMMARY:“Washington At War: The Evergreen State in World War One” by Lorraine McConaghy
DESCRIPTION:The program begins with an illustrated introduction to the war's themes before offering a "Readers' Theater": a script that is read aloud together\, allowing participants to speak the history they are discovering. The reading covers the period between 1914 and 1919. Learn about and discuss this dramatic period of immigration\, wartime industrialization\, women's rights\, social change\, radical labor\, epidemic disease\, and worldwide turmoil. Courtesy of Humanities Washington.
X-ALT-DESC;FMTTYPE=text/html:The program begins with an illustrated introduction to the war&rsquo\;s themes before offering a &ldquo\;Readers&rsquo\; Theater&rdquo\;: a script that is read aloud together\, allowing participants to speak the history they are discovering. The reading covers the period between 1914 and 1919. Learn about and discuss this dramatic period of immigration\, wartime industrialization\, women&rsquo\;s rights\, social change\, radical labor\, epidemic disease\, and worldwide turmoil. Courtesy of Humanities Washington.
LOCATION:RENTON HISTORY MUSEUM 235 Mill Ave. S. Renton\, WA 98057
UID:e.16.5923
SEQUENCE:3
DTSTAMP:20260424T134833Z
URL:https://chamber.gorenton.com/events/details/washington-at-war-the-evergreen-state-in-world-war-one-by-lorraine-mcconaghy-5923
END:VEVENT

END:VCALENDAR
