BEGIN:VCALENDAR
VERSION:2.0
PRODID:-//ChamberMaster//Event Calendar 2.0//EN
METHOD:PUBLISH
X-PUBLISHED-TTL:P3D
REFRESH-INTERVAL:P3D
CALSCALE:GREGORIAN
BEGIN:VEVENT
DTSTART:20190116T220000Z
DTEND:20190116T230000Z
X-MICROSOFT-CDO-ALLDAYEVENT:FALSE
SUMMARY:Washington State Department of Financial Education
DESCRIPTION:Katrina Roy\, Communication Specialist with the Financial Education and Outreach Program of the Washington State Department of Financial Institutions will speak on ID Theft and how the State of Washington can help.
X-ALT-DESC;FMTTYPE=text/html:Katrina Roy\, Communication Specialist with the Financial Education and Outreach Program of the Washington State Department of Financial Institutions will speak on ID Theft and how the State of Washington can help.
LOCATION:The Lakeshore 11448 Rainier Ave S Seattle\, WA 98118
UID:e.16.5989
SEQUENCE:3
DTSTAMP:20260424T093915Z
URL:https://chamber.gorenton.com/events/details/washington-state-department-of-financial-education-5989
END:VEVENT

END:VCALENDAR
