BEGIN:VCALENDAR
VERSION:2.0
PRODID:-//ChamberMaster//Event Calendar 2.0//EN
METHOD:PUBLISH
X-PUBLISHED-TTL:P3D
REFRESH-INTERVAL:P3D
CALSCALE:GREGORIAN
BEGIN:VEVENT
DTSTART:20191107T154500Z
DTEND:20191107T190000Z
X-MICROSOFT-CDO-ALLDAYEVENT:FALSE
SUMMARY:We Wrote the Book on: AI for Sales
DESCRIPTION:About the Event: Sales has changed more in the past five years than in the past fifty. As we know\, change is permanent. However\, the speed and scope of change today is different. Mathematicians call it the third derivative or the rate of the increase in acceleration\; and an increase in acceleration is exactly what Artificial Intelligence (AI) is bringing to modern sales. In this session\, you will learn from a panel of thought leaders how AI for Sales is assisting and augmenting the sales role\, and thought-provoking ideas on how you can get started with AI for Sales.\n\nLocation: Columbia Tower Club (75th - 76th Floor)\n\nModerator: Cheryl Christensen\, CEO\, Data2Develop\, LLC\n\nPanelists:\n\n\n\n-Parth Mukherjee\, Head of Product Marketing\, Chorus.ai\n\n-Chad Burmeister\, CEO\, ScaleX.ai\n\n-Krystan Resch\, Director of Partnerships\, ZoomInfo\, Powered by DiscoverOrg\n\n-Babar Batla\, CEO\, SalesDirector.ai
X-ALT-DESC;FMTTYPE=text/html:<strong>About the Event:</strong>&nbsp\;Sales has changed more in the past five years than in the past fifty. As we know\, change is permanent. However\, the speed and scope of change today is different. Mathematicians call it the third derivative or the rate of the increase in acceleration\; and an <em>increase in acceleration</em>&nbsp\;is exactly what Artificial Intelligence (AI) is bringing to modern sales. In this session\, you will learn from a panel of thought leaders how AI for Sales is assisting and augmenting the sales role\, and thought-provoking ideas on how you can get started with AI for Sales.<br />\n<strong>Location:</strong>&nbsp\;Columbia Tower Club (75th - 76th Floor)<br />\n<strong>Moderator:</strong>&nbsp\;Cheryl Christensen\, CEO\, Data2Develop\, LLC<br />\n<strong>Panelists:</strong><br />\n<br />\n-Parth Mukherjee\, Head of Product Marketing\, Chorus.ai<br />\n-Chad Burmeister\, CEO\, ScaleX.ai<br />\n-Krystan Resch\, Director of Partnerships\, ZoomInfo\, Powered by DiscoverOrg<br />\n-Babar Batla\, CEO\, SalesDirector.ai
LOCATION:Columbia Tower 701 5th Avenue Seattle\, WA 98104
UID:e.16.6689
SEQUENCE:3
DTSTAMP:20260423T185819Z
URL:https://chamber.gorenton.com/events/details/we-wrote-the-book-on-ai-for-sales-6689
END:VEVENT

END:VCALENDAR
