BEGIN:VCALENDAR
VERSION:2.0
PRODID:-//ChamberMaster//Event Calendar 2.0//EN
METHOD:PUBLISH
X-PUBLISHED-TTL:P3D
REFRESH-INTERVAL:P3D
CALSCALE:GREGORIAN
BEGIN:VEVENT
DTSTART:20251204T230000Z
DTEND:20251205T030000Z
X-MICROSOFT-CDO-ALLDAYEVENT:FALSE
SUMMARY:Weatherly Inn Renton Merry Market
DESCRIPTION:Get into the holiday spirit with an afternoon filled with festive fun for the whole family: free Santa photos\, reindeer\, shopping\, live music\, hot cocoa bar and more. We can't wait to see you there!
X-ALT-DESC;FMTTYPE=text/html:Get into the holiday spirit with an afternoon filled with festive fun for the whole family: free Santa photos\, reindeer\, shopping\, live music\, hot cocoa bar and more. We can&rsquo\;t wait to see you there!
LOCATION:4550 Talbot Road South Renton WA 98055
UID:e.16.31473
SEQUENCE:3
DTSTAMP:20260426T041814Z
URL:https://chamber.gorenton.com/events/details/weatherly-inn-renton-merry-market-31473
END:VEVENT

END:VCALENDAR
