BEGIN:VCALENDAR
VERSION:2.0
PRODID:-//ChamberMaster//Event Calendar 2.0//EN
METHOD:PUBLISH
X-PUBLISHED-TTL:P3D
REFRESH-INTERVAL:P3D
CALSCALE:GREGORIAN
BEGIN:VEVENT
DTSTART:20220625T193000Z
DTEND:20220625T193000Z
X-MICROSOFT-CDO-ALLDAYEVENT:FALSE
SUMMARY:Wellness Gaines Fitness Ribbon Cutting
DESCRIPTION:
X-ALT-DESC;FMTTYPE=text/html:
LOCATION:
UID:e.16.11772
SEQUENCE:3
DTSTAMP:20260419T232007Z
URL:https://chamber.gorenton.com/events/details/wellness-gaines-fitness-ribbon-cutting-11772
END:VEVENT

END:VCALENDAR
