BEGIN:VCALENDAR
VERSION:2.0
PRODID:-//ChamberMaster//Event Calendar 2.0//EN
METHOD:PUBLISH
X-PUBLISHED-TTL:P3D
REFRESH-INTERVAL:P3D
CALSCALE:GREGORIAN
BEGIN:VEVENT
DTSTART:20180511T000000Z
DTEND:20180511T020000Z
X-MICROSOFT-CDO-ALLDAYEVENT:FALSE
SUMMARY:Werxo Media presents: The Power of Video Marketing
DESCRIPTION:Join us on the Red Carpet for:\n\n\n	\n	 Fun insights about how video can work for you\n	\n	\n	Appetizers on the house\n	\n	\n	Raffle Door Prizes\n	\n	\n	Q & A with Cast & Crew\n	\n\n\n Be there or be completely out of the loop. :)
X-ALT-DESC;FMTTYPE=text/html:<p><span style="font-size:14px\;"><span style="font-family:arial\;">Join us on the Red Carpet for:</span></span></p>\n\n<ul>\n	<li>\n	<p><span style="font-size:14px\;"><span style="font-family:arial\;">&#8203\;Fun insights about how video can work for you</span></span></p>\n	</li>\n	<li>\n	<p><span style="font-size:14px\;"><span style="font-family:arial\;">Appetizers on the house</span></span></p>\n	</li>\n	<li>\n	<p><span style="font-size:14px\;"><span style="font-family:arial\;">Raffle Door Prizes</span></span></p>\n	</li>\n	<li>\n	<p><span style="font-size:14px\;"><span style="font-family:arial\;">Q &amp\; A with Cast &amp\; Crew</span></span></p>\n	</li>\n</ul>\n\n<p><span style="font-size:14px\;"><span style="font-family:arial\;">&#8203\;Be there or be completely out of the loop. :)</span></span></p>\n
LOCATION:Whistle Stop Ale House 809 S 4th St Renton\, WA 98057
UID:e.16.5838
SEQUENCE:3
DTSTAMP:20260424T214907Z
URL:https://chamber.gorenton.com/events/details/werxo-media-presents-the-power-of-video-marketing-5838
END:VEVENT

END:VCALENDAR
