BEGIN:VCALENDAR
VERSION:2.0
PRODID:-//ChamberMaster//Event Calendar 2.0//EN
METHOD:PUBLISH
X-PUBLISHED-TTL:P3D
REFRESH-INTERVAL:P3D
CALSCALE:GREGORIAN
BEGIN:VEVENT
DTSTART:20200410T010000Z
DTEND:20200410T020000Z
X-MICROSOFT-CDO-ALLDAYEVENT:FALSE
SUMMARY:What do Sports Teach Our Kids?
DESCRIPTION:Drawing from sociology\, philosophy\, and years of studying\, coaching\, and playing sports\, Professor Eric Davis explores their deeper themes. Davis dives into recent sports scandals to understand our relationship to the games we love\, and examines the impact\, both positive and negative\, sports might have on the next generation. This talk is presented in conjunction with the Smithsonian traveling exhibit Hometown Teams\, which will open at the Renton History Museum in April.
X-ALT-DESC;FMTTYPE=text/html:Drawing from sociology\, philosophy\, and years of studying\, coaching\, and playing sports\, Professor Eric Davis explores their deeper themes. Davis dives into recent sports scandals to understand our relationship to the games we love\, and examines the impact\, both positive and negative\, sports might have on the next generation. This talk is presented in conjunction with the Smithsonian traveling exhibit Hometown Teams\, which will open at the Renton History Museum in April.
LOCATION:Renton History Museum 235 Mill Ave S Renton WA 98057
UID:e.16.6727
SEQUENCE:3
DTSTAMP:20260423T114049Z
URL:https://chamber.gorenton.com/events/details/what-do-sports-teach-our-kids-6727
END:VEVENT

END:VCALENDAR
