BEGIN:VCALENDAR
VERSION:2.0
PRODID:-//ChamberMaster//Event Calendar 2.0//EN
METHOD:PUBLISH
X-PUBLISHED-TTL:P3D
REFRESH-INTERVAL:P3D
CALSCALE:GREGORIAN
BEGIN:VEVENT
DTSTART:20220423T010000Z
DTEND:20220423T040000Z
X-MICROSOFT-CDO-ALLDAYEVENT:FALSE
SUMMARY:Wine pairing education class that will provide tastings of selected NW Wines Of Spring and NW favorite spring menus
DESCRIPTION:Learn more about the art of wine pairing at these Renton Technical Colleges courses open to the public. Chris Jewett shares his knowledge of wines from around the world in his wine and food pairing classes. Chris has deep knowledge of the industry that he loves sharing with others. \n \n\nCULS 154 Wine Dinner PairingEuropean vs. PNW wines Friday\, April 22\, 2022 6-9 p.m. Bldg. I-Room 101 Cost: $150 Wine pairing education that will provide tastings of selected NW Wines Of Spring and NW favorite spring menus-exploring the wines that pair with the meals prepared for Springtime celebrations... Rose's\, Rieslings and Pinot Noir's Registration Item Code: M454\n\n \n\nREGISTER at https://www.public.ctc.edu/ApplicantWebClient/Applicant/ApplWelcome.aspx
X-ALT-DESC;FMTTYPE=text/html:Learn more about the art of wine pairing at these Renton Technical Colleges courses open to the public. Chris Jewett shares his knowledge of wines from around the world in his wine and food pairing classes. Chris has deep knowledge of the industry that he loves sharing with others.&nbsp\;\n<div>&nbsp\;</div>\n\n<div>CULS 154 Wine Dinner PairingEuropean vs. PNW wines Friday\, April 22\, 2022 6-9 p.m. Bldg. I-Room 101 Cost: $150 Wine pairing education that will provide tastings of selected NW Wines Of Spring and NW favorite spring menus-exploring the wines that pair with the meals prepared for Springtime celebrations... Rose&rsquo\;s\, Rieslings and Pinot Noir&rsquo\;s Registration Item Code: M454</div>\n\n<div>&nbsp\;</div>\n\n<div>REGISTER at&nbsp\;<a href="https://nam04.safelinks.protection.outlook.com/?url=https%3A%2F%2Fwww.public.ctc.edu%2FApplicantWebClient%2FApplicant%2FApplWelcome.aspx&amp\;data=04%7C01%7Cdmedbury%40rtc.edu%7Cf18ca0838c3642b8c89408d9c3e4d46b%7C567e9a91fca340289835889234d03726%7C0%7C0%7C637756209866546124%7CUnknown%7CTWFpbGZsb3d8eyJWIjoiMC4wLjAwMDAiLCJQIjoiV2luMzIiLCJBTiI6Ik1haWwiLCJXVCI6Mn0%3D%7C3000&amp\;sdata=%2BhQtTn6wUHzvdVYTSr7wRF4lqaYWX3ShoGfzMVw3di8%3D&amp\;reserved=0" style="font-family: Calibri\, sans-serif\; font-size: 11pt\;"><span style="color:#0782C1">https://www.public.ctc.edu/ApplicantWebClient/Applicant/ApplWelcome.aspx</span></a></div>\n
LOCATION:Renton Technical College 3000 NE 4th Street Renton\, WA 98056 Bldg. I-Campus Center
UID:e.16.11293
SEQUENCE:3
DTSTAMP:20260420T014708Z
URL:https://chamber.gorenton.com/events/details/wine-pairing-education-class-that-will-provide-tastings-of-selected-nw-wines-of-spring-and-nw-favorite-spring-menus-11293
END:VEVENT

END:VCALENDAR
