BEGIN:VCALENDAR
VERSION:2.0
PRODID:-//ChamberMaster//Event Calendar 2.0//EN
METHOD:PUBLISH
X-PUBLISHED-TTL:P3D
REFRESH-INTERVAL:P3D
CALSCALE:GREGORIAN
BEGIN:VEVENT
DTSTART:20220521T010000Z
DTEND:20220521T040000Z
X-MICROSOFT-CDO-ALLDAYEVENT:FALSE
SUMMARY:Wine pairing educational dinner that will provide tastings of selected European red wines to Pacific NW red wines. The wines will be paired to a delicious three course meal provided by our RTC Culinary Arts students and graduates.
DESCRIPTION:Learn more about the art of wine pairing at these Renton Technical Colleges courses open to the public. Chris Jewett shares his knowledge of wines from around the world in his wine and food pairing classes. Chris has deep knowledge of the industry that he loves sharing with others.\n \n\nWine pairing educational dinner that will provide tastings of selected European red wines to Pacific NW red wines. The wines will be paired to a delicious three course meal provided by our RTC Culinary Arts students and graduates. Registration Item Code: M42\n\n \n\nREGISTER at https://www.public.ctc.edu/ApplicantWebClient/Applicant/ApplWelcome.aspx
X-ALT-DESC;FMTTYPE=text/html:Learn more about the art of wine pairing at these Renton Technical Colleges courses open to the public. Chris Jewett shares his knowledge of wines from around the world in his wine and food pairing classes. Chris has deep knowledge of the industry that he loves sharing with others.\n<div>&nbsp\;</div>\n\n<div>Wine pairing educational dinner that will provide tastings of selected European red wines to Pacific NW red wines. The wines will be paired to a delicious three course meal provided by our RTC Culinary Arts students and graduates. Registration Item Code: M42</div>\n\n<div>&nbsp\;</div>\n\n<div>REGISTER at&nbsp\;<a href="https://nam04.safelinks.protection.outlook.com/?url=https%3A%2F%2Fwww.public.ctc.edu%2FApplicantWebClient%2FApplicant%2FApplWelcome.aspx&amp\;data=04%7C01%7Cdmedbury%40rtc.edu%7Cf18ca0838c3642b8c89408d9c3e4d46b%7C567e9a91fca340289835889234d03726%7C0%7C0%7C637756209866546124%7CUnknown%7CTWFpbGZsb3d8eyJWIjoiMC4wLjAwMDAiLCJQIjoiV2luMzIiLCJBTiI6Ik1haWwiLCJXVCI6Mn0%3D%7C3000&amp\;sdata=%2BhQtTn6wUHzvdVYTSr7wRF4lqaYWX3ShoGfzMVw3di8%3D&amp\;reserved=0" style="font-family: Calibri\, sans-serif\; font-size: 11pt\;"><span style="color:#0782C1">https://www.public.ctc.edu/ApplicantWebClient/Applicant/ApplWelcome.aspx</span></a></div>\n
LOCATION:Renton Technical College 3000 NE 4th Street Renton\, WA 98056 Bldg. I-Campus Center
UID:e.16.11294
SEQUENCE:3
DTSTAMP:20260420T014825Z
URL:https://chamber.gorenton.com/events/details/wine-pairing-educational-dinner-that-will-provide-tastings-of-selected-european-red-wines-to-pacific-nw-red-wines-the-wines-will-be-paired-to-a-delicious-three-course-meal-provided-by-our-rtc-culinary-arts-students-and-graduates-11294
END:VEVENT

END:VCALENDAR
