BEGIN:VCALENDAR
VERSION:2.0
PRODID:-//ChamberMaster//Event Calendar 2.0//EN
METHOD:PUBLISH
X-PUBLISHED-TTL:P3D
REFRESH-INTERVAL:P3D
CALSCALE:GREGORIAN
BEGIN:VEVENT
DTSTART:20220328T010000Z
DTEND:20220328T040000Z
X-MICROSOFT-CDO-ALLDAYEVENT:FALSE
SUMMARY:Worship Night Event
DESCRIPTION:Come out and enjoy a night of worship and free wings.  Open to the public.  All are welcome.  Special guest appearance and performance by George Anthony.  Child care will be available. Food is served at 6:00\, and doors to auditorium are open at 6:30pm.
X-ALT-DESC;FMTTYPE=text/html:Come out and enjoy a night of worship and free wings. &nbsp\;Open to the public. &nbsp\;All are welcome. &nbsp\;Special guest appearance and performance by George Anthony. &nbsp\;Child care will be available. Food is served at 6:00\, and doors to auditorium are open at 6:30pm.
LOCATION:Timberlake Church 16015 116th Ave SE\, Renton\, WA 98058
UID:e.16.11442
SEQUENCE:3
DTSTAMP:20260420T025926Z
URL:https://chamber.gorenton.com/events/details/worship-night-event-11442
END:VEVENT

END:VCALENDAR
