BEGIN:VCALENDAR
VERSION:2.0
PRODID:-//ChamberMaster//Event Calendar 2.0//EN
METHOD:PUBLISH
X-PUBLISHED-TTL:P3D
REFRESH-INTERVAL:P3D
CALSCALE:GREGORIAN
BEGIN:VEVENT
DTSTART:20190427T180000Z
DTEND:20190427T194500Z
X-MICROSOFT-CDO-ALLDAYEVENT:FALSE
SUMMARY:Ye Wen Wai Zhuan Zhang Tian Zhi (Master Z: The Ip Man Legacy) 2018 Free Film Screening 4-27-19
DESCRIPTION:Synopsis: After being defeated by Ip Man\, Cheung Tin Chi (Max Zhang) lives a simple life and lay low\, moonlighting as a mercenary briefly on the side\, before choosing to leave behind the world of martial arts\, and to operate a grocery store with his young son. But not all as it seems as British gweilos' opium/heroin business and the local triads eventually crosses path and clash with our hero.
X-ALT-DESC;FMTTYPE=text/html:Synopsis: After being defeated by Ip Man\, Cheung Tin Chi (Max Zhang) lives a simple life and lay low\, moonlighting as a mercenary briefly on the side\, before choosing to leave behind the world of martial arts\, and to operate a grocery store with his young son. But not all as it seems as British gweilos&#39\; opium/heroin business and the local triads eventually crosses path and clash with our hero.
LOCATION:Renton Public KCLS Main Library\, King Parker Meeting Room\, 100 Mill Ave S\, Renton\, WA 98057\, 425-226-6043\; https://goo.gl/maps/uUPSDqQAxzs
UID:e.16.6481
SEQUENCE:3
DTSTAMP:20260424T052539Z
URL:https://chamber.gorenton.com/events/details/ye-wen-wai-zhuan-zhang-tian-zhi-master-z-the-ip-man-legacy-2018-free-film-screening-4-27-19-6481
END:VEVENT

END:VCALENDAR
