BEGIN:VCALENDAR
VERSION:2.0
PRODID:-//ChamberMaster//Event Calendar 2.0//EN
METHOD:PUBLISH
X-PUBLISHED-TTL:P3D
REFRESH-INTERVAL:P3D
CALSCALE:GREGORIAN
BEGIN:VEVENT
DTSTART:20190119T220000Z
DTEND:20190119T235500Z
X-MICROSOFT-CDO-ALLDAYEVENT:FALSE
SUMMARY:Ying (Shadow) 2018 Free Film Screening
DESCRIPTION:Synopsis: Set during China's Three Kingdom's era (AD 220 280). The story of a great king and his people\, who will be expelled from their homeland and will aspire to claim it. The king\, violent and ambitious\, of mysterious methods and motives\; his general\, a visionary who yearns to win the final battle but needs to prepare his plans in secret\; the women of the palace\, who struggle to find redemption in a world where they have no place\; and a commoner called "Lord of all the world"\, will be the characters around who turn the inexorable forces of this story. Presented By: Urban Ranger Mobile Cinema (a not for profit entity). Subtitle: Chinese & English (white hardcode in print). Seats: 44 max. Language: Mandarin. MPAA Rating: None. Contains some historical fight scenes. Parental guidance is advised. Running Time: 116 minutes (1 hours 56 minutes). Event Poster: http://tinypic.com/r/ac8pix/9
X-ALT-DESC;FMTTYPE=text/html:Synopsis: Set during China&#39\;s Three Kingdom&#39\;s era (AD 220&ndash\;280). The story of a great king and his people\, who will be expelled from their homeland and will aspire to claim it. The king\, violent and ambitious\, of mysterious methods and motives\; his general\, a visionary who yearns to win the final battle but needs to prepare his plans in secret\; the women of the palace\, who struggle to find redemption in a world where they have no place\; and a commoner called &quot\;Lord of all the world&quot\;\, will be the characters around who turn the inexorable forces of this story. Presented By: Urban Ranger Mobile Cinema (a not for profit entity). Subtitle: Chinese &amp\; English (white hardcode in print). Seats: 44 max. Language: Mandarin. MPAA Rating: None. Contains some historical fight scenes. Parental guidance is advised. Running Time: 116 minutes (1 hours 56 minutes). Event Poster: http://tinypic.com/r/ac8pix/9
LOCATION:Renton Public KCLS Main Library (King Parker Meeting Room) 100 Mill Ave S. Renton\, WA 98057
UID:e.16.5993
SEQUENCE:3
DTSTAMP:20260424T093125Z
URL:https://chamber.gorenton.com/events/details/ying-shadow-2018-free-film-screening-5993
END:VEVENT

END:VCALENDAR
