BEGIN:VCALENDAR
VERSION:2.0
PRODID:-//ChamberMaster//Event Calendar 2.0//EN
METHOD:PUBLISH
X-PUBLISHED-TTL:P3D
REFRESH-INTERVAL:P3D
CALSCALE:GREGORIAN
BEGIN:VEVENT
DTSTART:20220522T210000Z
DTEND:20220522T223000Z
X-MICROSOFT-CDO-ALLDAYEVENT:FALSE
SUMMARY:Youth Music Concert Fundraiser
DESCRIPTION:We have a couple of fundraising opportunities this week and on Sunday to help support The Salvation Army Renton Corps Youth Music program and to support our involvement in The Salvation Army Western Territorial Encore Competition in June. \n\n \n\n	The first opportunity is our Macaron fundraiser.  CLICK HERE TO VIEW THE order form to pre-order macarons.  These are amazing and you can't stop with just one\, so we have options available for you to order a couple dozen.  These are amazing gifts to give to others or reward yourself.  You will be given a date for next week to pick them up from The Salvation Army Renton Corps at 720 S. Tobin St. Renton\, WA.  Please e-mail your order to Major Angelina Koenig at Angelina.Koenig@usw.salvationarmy.org by 5:00p.m. on Friday\, May 20\, 2022.\n\n  \n\n\n	The second opportunity is to attend our ENCORE Music Concert and baked goods/beef jerky fundraising event. You are invited to join us this coming Sunday\, May 22\, 2022 at The Salvation Army Renton Corps.  The concert will be at 720 S. Tobin St.\, Renton 98057 at 2:00 p.m.   \n\n   \n\nPeter Koenig will be representing the Renton Corps and the Northwest Division at The Salvation Army Western Territorial ENCORE (Music & Performing Arts) competition. He will be performing in the piano and brass solo categories. Our goal is to raise $1\,500.\n\n \n\nDuring this fundraising event Peter will be performing various solos on both the piano and trombone. He will have a few other musicians joining him as they give us all an afternoon of music enjoyment.  We will also be selling some amazing baked goods and homemade beef jerky (all natural ingredients and fresh).\n\n \n\nWe are asking for a suggested donation of $10 to attend this concert.  If you are not able to donate $10\, don't let that stop you from joining us.  Music is a gift that we want to be shared with all. \n\n \n\nIf you are not able to join us in person\, please join us at The Salvation Army Renton Corps Facebook page- @SalvationArmyRenton as it will be live streamed.  During the event we will have a link and other donation options available to you. \n\n \n\nIf you are sending a check via regular mail\, please let us know so we can include your donation in the totals we announce at the end of the concert.  Please help support The Salvation Army Renton Corps youth music programs.
X-ALT-DESC;FMTTYPE=text/html:<span style="font-size:14px\;"><span style="font-family:times new roman\;">We have a couple of fundraising opportunities this week and on Sunday to help support The Salvation Army Renton Corps Youth Music program and to support our involvement in The Salvation Army Western Territorial Encore Competition in June.&nbsp\;</span></span><br />\n&nbsp\;\n<ol>\n	<li><span style="font-size:14px\;"><span style="font-family:times new roman\;">The first opportunity is our Macaron fundraiser.&nbsp\; <u><strong><a href="https://chambermaster.blob.core.windows.net/userfiles/UserFiles/chambers/16/File/macaronorderform.pdf"><span style="color:#0000CD\;">CLICK HERE TO VIEW THE&nbsp\;order form </span></a><span style="color:#0000CD\;">to pre-order macarons.</span></strong></u>&nbsp\; These are amazing and you can&rsquo\;t stop with just one\, so we have options available for you to order a couple dozen.&nbsp\; These are amazing gifts to give to others or reward yourself.&nbsp\; You will be given a date for next week to pick them up from The Salvation Army Renton Corps at 720 S. Tobin St. Renton\, WA.&nbsp\; Please e-mail your order to Major Angelina Koenig at <a href="mailto:Angelina.Koenig@usw.salvationarmy.org" style="color:rgb(5\, 99\, 193)\;">Angelina.Koenig@usw.salvationarmy.org</a> by 5:00p.m. on Friday\, May 20\, 2022.</span></span></li>\n</ol>\n<span style="font-size:14px\;"><span style="font-family:times new roman\;"> &nbsp\;</span></span>\n\n<ol>\n	<li><span style="font-size:14px\;"><span style="font-family:times new roman\;">The second opportunity is to attend our ENCORE Music Concert and baked goods/beef jerky fundraising event. You are invited to join us this coming Sunday\, May 22\, 2022 at The Salvation Army Renton Corps.&nbsp\; The concert will be at 720 S. Tobin St.\, Renton 98057 at 2:00 p.m.&nbsp\;&nbsp\; </span></span></li>\n</ol>\n<span style="font-size:14px\;"><span style="font-family:times new roman\;"> &nbsp\;&nbsp\;<br />\nPeter Koenig will be representing the Renton Corps and the Northwest Division at The Salvation Army Western Territorial ENCORE (Music &amp\; Performing Arts) competition. He will be performing in the piano and brass solo categories. Our goal is to raise $1\,500.<br />\n&nbsp\;<br />\nDuring this fundraising event Peter will be performing various solos on both the piano and trombone. He will have a few other musicians joining him as they give us all an afternoon of music enjoyment.&nbsp\; We will also be selling some amazing baked goods and homemade beef jerky (all natural ingredients and fresh).<br />\n&nbsp\;<br />\nWe are asking for a suggested donation of $10 to attend this concert.&nbsp\; If you are not able to donate $10\, don&rsquo\;t let that stop you from joining us.&nbsp\; Music is a gift that we want to be shared with all.&nbsp\;<br />\n&nbsp\;<br />\nIf you are not able to join us in person\, please join us at The Salvation Army Renton Corps Facebook page- @SalvationArmyRenton as it will be live streamed.&nbsp\; During the event we will have a link and other donation options available to you.&nbsp\;<br />\n&nbsp\;<br />\nIf you are sending a check via regular mail\, please let us know so we can include your donation in the totals we announce at the end of the concert.&nbsp\; Please help support The Salvation Army Renton Corps youth music programs.</span></span><br />\n&nbsp\;
LOCATION:The Salvation Army Renton Corps 720 S. Tobin St. Renton\, WA 98057
UID:e.16.11767
SEQUENCE:3
DTSTAMP:20260420T002233Z
URL:https://chamber.gorenton.com/events/details/youth-music-concert-fundraiser-11767
END:VEVENT

END:VCALENDAR
